BEGIN:VCALENDAR
VERSION:2.0
CALSCALE:GREGORIAN
PRODID:adamgibbons/ics
METHOD:PUBLISH
X-PUBLISHED-TTL:PT1H
BEGIN:VEVENT
UID:224@gancio.stiehl-wolf.synology.me
SUMMARY:Repaircafé
DTSTAMP:20260420T174706Z
DTSTART:20260518T130000Z
DTEND:20260518T160000Z
DESCRIPTION:Der Toaster toastet nicht mehr\, der Staubsauger versagt den Di
	enst? Kein\nProblem\, es gibt das Repair-Café.\n\nIn dem monatlich stattfi
	ndenden Repair Café kann jeder seine kaputten\nHaushaltsgegenstände selber
	 unter Anleitung reparieren oder bei der Reparatur\nhelfen.\n\nDabei beruh
	t alles auf gegenseitiger Unterstützung bei Reparaturen und Hilfe zur\nSel
	bsthilfe. In einer Zeit\, in der Produkte eher neu gekauft als repariert\n
	werden\, möchte das Repair Café es anders machen: Wir helfen uns gegenseit
	ig\,\nschonen die Umwelt und Spaß macht es auch.\n\nBitte melden Sie sich 
	in der Gemeindebücherei Hahnstätten für Ihren\nReparaturauftrag an.\nWähre
	nd der Öffnungszeiten ist die Bücherei unter der Telefonnummer 06430-92643
	8\nzu erreichen\, unsere E-Mail-Adresse lautet buecherei@hahnstaetten.de\n
	[buecherei@hahnstaetten.de].\n\nUm die Wartezeit zu verkürzen oder auch nu
	r für einen kleinen Plausch\nzwischendurch\, bieten wir Kaffee und Kuchen 
	an.\n\nDas Repair Café ist ein Gemeinschaftsprojekt der Gemeindebücherei H
	ahnstätten\,\ndes MGH Kreml-Kulturhaus und TuWaGu e.V.- die Nachbarschafts
	hilfe Untere Aar!\n\nDas Repair-Café findet an jedem dritten Montag im Mon
	at von 15-18h statt.\n\n© Foto von Bermix Studio\n[https://unsplash.com/de
	/@bermixstudio?utm_content=creditCopyText&utm_medium=referral&utm_source=u
	nsplash]\nauf Unsplash\n[https://unsplash.com/de/fotos/ein-mann-mit-augenb
	inde-bei-der-arbeit-auf-einer-leiterplatte-y9RGeKyVpM8?utm_content=creditC
	opyText&utm_medium=referral&utm_source=unsplash]\n
URL:https://gancio.stiehl-wolf.synology.me/event/repaircafe-8
LOCATION:Dorfgemeinschaftshaus Hahnstätten - Austr. 5\, 65623 Hahnstätten
STATUS:CONFIRMED
CATEGORIES:Digitalbotschafter,Veranstaltung,Seniorenbeirat
X-ALT-DESC;FMTTYPE=text/html:<p><strong>Der Toaster toastet nicht mehr, der
	 Staubsauger versagt den Dienst? Kein Problem, es gibt das Repair-Café.</s
	trong></p><p>In dem <strong>monatlich stattfindenden Repair Café</strong> 
	kann jeder seine kaputten Haushaltsgegenstände selber unter Anleitung repa
	rieren oder bei der Reparatur helfen.</p><p>Dabei beruht alles auf gegense
	itiger Unterstützung bei Reparaturen und Hilfe zur Selbsthilfe. In einer Z
	eit, in der Produkte eher neu gekauft als repariert werden, möchte das Rep
	air Café es anders machen: Wir helfen uns gegenseitig, schonen die Umwelt 
	und Spaß macht es auch.</p><p><strong>Bitte melden Sie sich in der Gemeind
	ebücherei Hahnstätten für Ihren Reparaturauftrag an. <br>Während der Öffnu
	ngszeiten ist die Bücherei unter der Telefonnummer 06430-926438 zu erreich
	en, unsere E-Mail-Adresse lautet</strong>&nbsp;<a href="mailto:buecherei@h
	ahnstaetten.de" target="_blank">buecherei@hahnstaetten.de</a>.</p><p><stro
	ng>Um die Wartezeit zu verkürzen oder auch nur für einen kleinen Plausch z
	wischendurch, bieten wir Kaffee und Kuchen an.</strong></p><p>Das Repair C
	afé ist ein Gemeinschaftsprojekt der Gemeindebücherei Hahnstätten, des MGH
	 Kreml-Kulturhaus und TuWaGu e.V.- die Nachbarschaftshilfe Untere Aar!</p>
	<p><strong>Das Repair-Café findet an jedem dritten Montag im Monat von 15-
	18h statt.</strong></p><p>© Foto von <a href="https://unsplash.com/de/@ber
	mixstudio?utm_content=creditCopyText&amp;utm_medium=referral&amp;utm_sourc
	e=unsplash" target="_blank">Bermix Studio</a> auf <a href="https://unsplas
	h.com/de/fotos/ein-mann-mit-augenbinde-bei-der-arbeit-auf-einer-leiterplat
	te-y9RGeKyVpM8?utm_content=creditCopyText&amp;utm_medium=referral&amp;utm_
	source=unsplash" target="_blank">Unsplash</a><br></p>
BEGIN:VALARM
ACTION:DISPLAY
DESCRIPTION:Repaircafé
TRIGGER:-PT1H
END:VALARM
END:VEVENT
END:VCALENDAR
